BEGIN:VCALENDAR
VERSION:2.0
PRODID:icalendar-ruby
CALSCALE:GREGORIAN
METHOD:PUBLISH
BEGIN:VEVENT
DTSTAMP:20260420T005429Z
UID:11-368292@lwc614.org
DTSTART:20261011T140000Z
DTEND:20261011T160000Z
CLASS:PUBLIC
CREATED:20260419T200651
DESCRIPTION:
LAST-MODIFIED:20260419T200651
LOCATION:
SUMMARY:10 AM Worship Service 
URL;VALUE=URI:https://www.lwc614.org/events/10-am-worship-service--11/2026-
 10-11
ATTACH;FILENAME=Church.png;FMTTYPE=image/png:https://dq5pwpg1q8ru0.cloudfro
 nt.net/2025/11/21/21/24/51/5eae9438-e3c0-4db8-81b1-7012396a8c5b/Church.png
END:VEVENT
END:VCALENDAR
