BEGIN:VCALENDAR
VERSION:2.0
PRODID:icalendar-ruby
CALSCALE:GREGORIAN
METHOD:PUBLISH
BEGIN:VEVENT
DTSTAMP:20260420T024943Z
UID:12-368361@lwc614.org
DTSTART:20261004T120000Z
DTEND:20261004T131500Z
CLASS:PUBLIC
CREATED:20260419T200651
DESCRIPTION:
LAST-MODIFIED:20260419T200651
LOCATION:
SUMMARY:8 AM Worship Service 
URL;VALUE=URI:https://www.lwc614.org/events/8-am-worship-service/2026-10-04
ATTACH;FILENAME=Church.png;FMTTYPE=image/png:https://dq5pwpg1q8ru0.cloudfro
 nt.net/2025/11/21/21/41/44/a51d8737-32e3-49d3-9c41-f165b7e7415f/Church.png
END:VEVENT
END:VCALENDAR
