BEGIN:VCALENDAR
VERSION:2.0
PRODID:icalendar-ruby
CALSCALE:GREGORIAN
METHOD:PUBLISH
BEGIN:VEVENT
DTSTAMP:20260420T050948Z
UID:13-368708@lwc614.org
DTSTART:20260930T230000Z
DTEND:20261001T001500Z
CLASS:PUBLIC
CREATED:20260419T234426
DESCRIPTION:
LAST-MODIFIED:20260419T234426
LOCATION:
SUMMARY:Bible Study 
URL;VALUE=URI:https://www.lwc614.org/events/bible-study/2026-09-30
ATTACH;FILENAME=ChatGPT-Image-Jul-5%2C-2025%2C-10_47_38-AM.png;FMTTYPE=imag
 e/png:https://dq5pwpg1q8ru0.cloudfront.net/2025/09/13/23/50/41/c599d3db-fd
 fa-4fb3-b698-a26d4d30d62e/ChatGPT-Image-Jul-5%252C-2025%252C-10_47_38-AM.p
 ng
END:VEVENT
END:VCALENDAR
