BEGIN:VCALENDAR
VERSION:2.0
PRODID:icalendar-ruby
CALSCALE:GREGORIAN
METHOD:PUBLISH
BEGIN:VEVENT
DTSTAMP:20260420T002131Z
UID:15-368500@lwc614.org
DTSTART:20261010T130000Z
DTEND:20261010T140000Z
CLASS:PUBLIC
CREATED:20260419T200652
DESCRIPTION:
LAST-MODIFIED:20260419T200652
LOCATION:Living Word Church
SUMMARY:Corporate Prayer
URL;VALUE=URI:https://www.lwc614.org/events/corporate-prayer/2026-10-10
ATTACH;FILENAME=prayer.png;FMTTYPE=image/png:https://dq5pwpg1q8ru0.cloudfro
 nt.net/2025/11/21/21/42/35/0feb3c9f-648d-4d13-aa53-338f1de0ef43/prayer.png
END:VEVENT
END:VCALENDAR
